BEGIN:VCALENDAR
VERSION:2.0
PRODID:DPCALENDAR
CALSCALE:GREGORIAN
BEGIN:VTIMEZONE
TZID:Europe/Berlin
X-MICROSOFT-CDO-TZID:4
BEGIN:STANDARD
DTSTART:20251026T010000
TZOFFSETFROM:+0200
TZOFFSETTO:+0100
TZNAME:CET
END:STANDARD
BEGIN:STANDARD
DTSTART:20261025T010000
TZOFFSETFROM:+0200
TZOFFSETTO:+0100
TZNAME:CET
END:STANDARD
BEGIN:DAYLIGHT
DTSTART:20260329T010000
TZOFFSETFROM:+0100
TZOFFSETTO:+0200
TZNAME:CEST
END:DAYLIGHT
END:VTIMEZONE
X-WR-TIMEZONE:Europe/Berlin
BEGIN:VEVENT
DTSTART;TZID=Europe/Berlin:20240726T180000
DTEND;TZID=Europe/Berlin:20240726T233000
UID:0E61604A-8AC5-4D1E-87F5-5B4253BFF6A9
SUMMARY:Olympia: Eröffnungsfeier
CREATED:20240724T164724Z
DTSTAMP:20240724T164724Z
URL:https://www.bmoovd.de/sportsbar-liveevents/olympia-eroeffnungsfeier
LAST-MODIFIED:20240724T164724Z
SEQUENCE:0
X-ACCESS:1
X-HITS:6
X-COLOR:3366cc
X-IMAGE-INTRO:https://www.bmoovd.de/images/logos-sportarten/olympischespiele.png
X-SHOW-END-TIME:0
END:VEVENT
BEGIN:VEVENT
DTSTART;TZID=Europe/Berlin:20240727T100000
DTEND;TZID=Europe/Berlin:20240727T233000
UID:D33FC68C-6729-401D-B6FE-EE1945859800
SUMMARY:Olympia live
CREATED:20240724T165053Z
DTSTAMP:20240724T165053Z
URL:https://www.bmoovd.de/sportsbar-liveevents/olympia-live
LAST-MODIFIED:20240724T165053Z
SEQUENCE:0
X-ACCESS:1
X-HITS:9
X-COLOR:3366cc
X-IMAGE-INTRO:https://www.bmoovd.de/images/logos-sportarten/olympischespiele.png
X-SHOW-END-TIME:0
END:VEVENT
BEGIN:VEVENT
DTSTART;TZID=Europe/Berlin:20240727T130000
DTEND;TZID=Europe/Berlin:20240727T150000
UID:60E45B03-F50A-4D88-A892-6FB48FF8E8CB
SUMMARY:Olympia: Basketball Männer | Deutschland - Japan
CREATED:20240724T165126Z
DTSTAMP:20240724T165126Z
URL:https://www.bmoovd.de/sportsbar-liveevents/olympia-basketball-maenner-deutschland-japan
LAST-MODIFIED:20240724T165126Z
SEQUENCE:0
X-ACCESS:1
X-HITS:8
X-COLOR:3366cc
X-IMAGE-INTRO:https://www.bmoovd.de/images/logos-sportarten/olympischespiele.png
X-SHOW-END-TIME:0
END:VEVENT
BEGIN:VEVENT
DTSTART;TZID=Europe/Berlin:20240727T170000
DTEND;TZID=Europe/Berlin:20240727T190000
UID:F9E5DE2F-0661-4D41-AC22-98ECC6800C05
SUMMARY:Olympia: Hockey Männer | Deutschland - Frankreich
CREATED:20240724T165208Z
DTSTAMP:20240724T165208Z
URL:https://www.bmoovd.de/sportsbar-liveevents/olympia-hockey-maenner-deutschland-frankreich
LAST-MODIFIED:20240724T165208Z
SEQUENCE:0
X-ACCESS:1
X-HITS:7
X-COLOR:3366cc
X-IMAGE-INTRO:https://www.bmoovd.de/images/logos-sportarten/olympischespiele.png
X-SHOW-END-TIME:0
END:VEVENT
BEGIN:VEVENT
DTSTART;TZID=Europe/Berlin:20240727T190000
DTEND;TZID=Europe/Berlin:20240727T203000
UID:D1F31925-1364-42A8-8F09-73002C9143A0
SUMMARY:Olympia: Handball Männer | Deutschland - Schweden
CREATED:20240724T165306Z
DTSTAMP:20240724T165306Z
URL:https://www.bmoovd.de/sportsbar-liveevents/olympia-handball-maenner-deutschland-schweden
LAST-MODIFIED:20240724T165306Z
SEQUENCE:0
X-ACCESS:1
X-HITS:6
X-COLOR:3366cc
X-IMAGE-INTRO:https://www.bmoovd.de/images/logos-sportarten/olympischespiele.png
X-SHOW-END-TIME:0
END:VEVENT
BEGIN:VEVENT
DTSTART;TZID=Europe/Berlin:20240728T103000
DTEND;TZID=Europe/Berlin:20240728T120000
UID:95DA8649-3CD7-468C-8301-ABFF33AE9EFF
SUMMARY:Olympia: Hockey Frauen | Deutschland - Japan
CREATED:20240724T165537Z
DTSTAMP:20240724T165537Z
URL:https://www.bmoovd.de/sportsbar-liveevents/olympia-hockey-frauen-deutschland-japan
LAST-MODIFIED:20240724T165537Z
SEQUENCE:0
X-ACCESS:1
X-HITS:24
X-COLOR:3366cc
X-IMAGE-INTRO:https://www.bmoovd.de/images/logos-sportarten/olympischespiele.png
X-SHOW-END-TIME:0
END:VEVENT
BEGIN:VEVENT
DTSTART;TZID=Europe/Berlin:20240728T120000
DTEND;TZID=Europe/Berlin:20240728T140000
UID:0BFA6DEF-FE5D-4C5A-9DC5-C68644DC844D
SUMMARY:Olympia: Beachvolleyball Frauen | Deutschland - Frankreich
CREATED:20240724T165618Z
DTSTAMP:20240724T165618Z
URL:https://www.bmoovd.de/sportsbar-liveevents/olympia-beachvolleyball-frauen-deutschland-frankreich
LAST-MODIFIED:20240724T165618Z
SEQUENCE:0
X-ACCESS:1
X-HITS:17
X-COLOR:3366cc
X-IMAGE-INTRO:https://www.bmoovd.de/images/logos-sportarten/olympischespiele.png
X-SHOW-END-TIME:0
END:VEVENT
BEGIN:VEVENT
DTSTART;TZID=Europe/Berlin:20240728T140000
DTEND;TZID=Europe/Berlin:20240728T160000
UID:4383562D-4F69-4AB9-8894-D77B38D028F4
SUMMARY:Olympia: Handball Frauen | Schweden - Deutschland
CREATED:20240724T165646Z
DTSTAMP:20240724T165646Z
URL:https://www.bmoovd.de/sportsbar-liveevents/olympia-handball-frauen-schweden-deutschland
LAST-MODIFIED:20240724T165646Z
SEQUENCE:0
X-ACCESS:1
X-HITS:24
X-COLOR:3366cc
X-IMAGE-INTRO:https://www.bmoovd.de/images/logos-sportarten/olympischespiele.png
X-SHOW-END-TIME:0
END:VEVENT
BEGIN:VEVENT
DTSTART;TZID=Europe/Berlin:20240728T170000
DTEND;TZID=Europe/Berlin:20240728T190000
UID:70BCA6F7-C72C-4A8E-BCA4-8EA070D40C65
SUMMARY:Olympia: Hockey Männer | Deutschland - Spanien
CREATED:20240724T165724Z
DTSTAMP:20240724T165724Z
URL:https://www.bmoovd.de/sportsbar-liveevents/olympia-hockey-maenner-deutschland-spanien
LAST-MODIFIED:20240724T165724Z
SEQUENCE:0
X-ACCESS:1
X-HITS:24
X-COLOR:3366cc
X-IMAGE-INTRO:https://www.bmoovd.de/images/logos-sportarten/olympischespiele.png
X-SHOW-END-TIME:0
END:VEVENT
BEGIN:VEVENT
DTSTART;TZID=Europe/Berlin:20240728T210000
DTEND;TZID=Europe/Berlin:20240728T230000
UID:508DD8F3-A22A-4CC3-AF1F-E3ED5D323056
SUMMARY:Olympia: Fußball Frauen: USA - Deutschland
CREATED:20240724T165748Z
DTSTAMP:20240724T165748Z
URL:https://www.bmoovd.de/sportsbar-liveevents/olympia-fussball-frauen-usa-deutschland
LAST-MODIFIED:20240724T165748Z
SEQUENCE:0
X-ACCESS:1
X-HITS:25
X-COLOR:3366cc
X-IMAGE-INTRO:https://www.bmoovd.de/images/logos-sportarten/olympischespiele.png
X-SHOW-END-TIME:0
END:VEVENT
BEGIN:VEVENT
DTSTART;TZID=Europe/Berlin:20240729T140000
DTEND;TZID=Europe/Berlin:20240729T233000
UID:F3B42047-EB21-4210-9ED7-B70D1C28CBD0
SUMMARY:Olympia
CREATED:20240726T123657Z
DTSTAMP:20240726T123657Z
URL:https://www.bmoovd.de/sportsbar-liveevents/olympia
LAST-MODIFIED:20240726T123657Z
SEQUENCE:0
X-ACCESS:1
X-HITS:23
X-COLOR:3366cc
X-IMAGE-INTRO:https://www.bmoovd.de/images/logos-sportarten/olympischespiele.png
X-SHOW-END-TIME:0
END:VEVENT
BEGIN:VEVENT
DTSTART;TZID=Europe/Berlin:20240729T200000
DTEND;TZID=Europe/Berlin:20240729T220000
UID:A56064C5-4BDE-4D0B-B18D-8832A40908AD
SUMMARY:Olympia: Hockey Frauen | Deutschland - Niederlande
CREATED:20240726T123734Z
DTSTAMP:20240726T123734Z
URL:https://www.bmoovd.de/sportsbar-liveevents/olympia-hockey-frauen-deutschland-niederlande
LAST-MODIFIED:20240726T123734Z
SEQUENCE:0
X-ACCESS:1
X-HITS:37
X-COLOR:3366cc
X-IMAGE-INTRO:https://www.bmoovd.de/images/logos-sportarten/olympischespiele.png
X-SHOW-END-TIME:0
END:VEVENT
BEGIN:VEVENT
DTSTART;TZID=Europe/Berlin:20240729T210000
DTEND;TZID=Europe/Berlin:20240729T230000
UID:CB34FB98-F92A-47E3-BA41-78D8F00E0416
SUMMARY:Olympia: Beachvolleyball Frauen | Frankreich - Deutschland
CREATED:20240726T123814Z
DTSTAMP:20240726T123814Z
URL:https://www.bmoovd.de/sportsbar-liveevents/olympia-beachvolleyball-frauen-frankreich-deutschland
LAST-MODIFIED:20240726T123814Z
SEQUENCE:0
X-ACCESS:1
X-HITS:22
X-COLOR:3366cc
X-IMAGE-INTRO:https://www.bmoovd.de/images/logos-sportarten/olympischespiele.png
X-SHOW-END-TIME:0
END:VEVENT
BEGIN:VEVENT
DTSTART;TZID=Europe/Berlin:20240730T140000
DTEND;TZID=Europe/Berlin:20240730T230000
UID:E7F9103B-47A1-4557-B760-F278B00B18A1
SUMMARY:Olympia
CREATED:20240726T123859Z
DTSTAMP:20240726T123859Z
URL:https://www.bmoovd.de/sportsbar-liveevents/olympia-2
LAST-MODIFIED:20240726T123859Z
SEQUENCE:0
X-ACCESS:1
X-HITS:22
X-COLOR:3366cc
X-IMAGE-INTRO:https://www.bmoovd.de/images/logos-sportarten/olympischespiele.png
X-SHOW-END-TIME:0
END:VEVENT
BEGIN:VEVENT
DTSTART;TZID=Europe/Berlin:20240730T173000
DTEND;TZID=Europe/Berlin:20240730T193000
UID:53B9169D-B856-4D45-A1BA-70CCC4E02AB7
SUMMARY:Olympia: 3x3 Basketball Frauen | Deutschland - USA
CREATED:20240726T123934Z
DTSTAMP:20240726T123934Z
URL:https://www.bmoovd.de/sportsbar-liveevents/olympia-3x3-basketball-frauen-deutschland-usa
LAST-MODIFIED:20240726T124524Z
SEQUENCE:350
X-ACCESS:1
X-HITS:21
X-COLOR:3366cc
X-IMAGE-INTRO:https://www.bmoovd.de/images/logos-sportarten/olympischespiele.png
X-SHOW-END-TIME:0
END:VEVENT
BEGIN:VEVENT
DTSTART;TZID=Europe/Berlin:20240730T210000
DTEND;TZID=Europe/Berlin:20240730T230000
UID:105BD9D7-F484-4ADC-9FCB-767EE9A6F918
SUMMARY:Olympia: Basketball Männer | Brasilien - Deutschland
CREATED:20240726T124011Z
DTSTAMP:20240726T124011Z
URL:https://www.bmoovd.de/sportsbar-liveevents/olympia-basketball-maenner-brasilien-deutschland
LAST-MODIFIED:20240726T124011Z
SEQUENCE:0
X-ACCESS:1
X-HITS:23
X-COLOR:3366cc
X-IMAGE-INTRO:https://www.bmoovd.de/images/logos-sportarten/olympischespiele.png
X-SHOW-END-TIME:0
END:VEVENT
BEGIN:VEVENT
DTSTART;TZID=Europe/Berlin:20240731T140000
DTEND;TZID=Europe/Berlin:20240731T233000
UID:5337E8C5-B7E8-468F-8CB2-79CFD98C49AB
SUMMARY:Olympia
CREATED:20240726T124625Z
DTSTAMP:20240726T124625Z
URL:https://www.bmoovd.de/sportsbar-liveevents/olympia-3
LAST-MODIFIED:20240726T124625Z
SEQUENCE:0
X-ACCESS:1
X-HITS:26
X-COLOR:3366cc
X-IMAGE-INTRO:https://www.bmoovd.de/images/logos-sportarten/olympischespiele.png
X-SHOW-END-TIME:0
END:VEVENT
BEGIN:VEVENT
DTSTART;TZID=Europe/Berlin:20240731T173000
DTEND;TZID=Europe/Berlin:20240731T193000
UID:F71F8BBB-7C62-4E59-B0B3-402710ED70A3
SUMMARY:Olympia: Hockey Männer | Deutschland - Niederlande
CREATED:20240726T124654Z
DTSTAMP:20240726T124654Z
URL:https://www.bmoovd.de/sportsbar-liveevents/olympia-hockey-maenner-deutschland-niederlande
LAST-MODIFIED:20240726T124654Z
SEQUENCE:0
X-ACCESS:1
X-HITS:22
X-COLOR:3366cc
X-IMAGE-INTRO:https://www.bmoovd.de/images/logos-sportarten/olympischespiele.png
X-SHOW-END-TIME:0
END:VEVENT
BEGIN:VEVENT
DTSTART;TZID=Europe/Berlin:20240731T190000
DTEND;TZID=Europe/Berlin:20240731T210000
UID:A479537E-2EC5-4FF3-AA96-04936BD68391
SUMMARY:Olympia: Fußball Frauen | Sambia - Deutschland
CREATED:20240726T124717Z
DTSTAMP:20240726T124717Z
URL:https://www.bmoovd.de/sportsbar-liveevents/olympia-fussball-frauen-sambia-deutschland
LAST-MODIFIED:20240726T124717Z
SEQUENCE:0
X-ACCESS:1
X-HITS:30
X-COLOR:3366cc
X-IMAGE-INTRO:https://www.bmoovd.de/images/logos-sportarten/olympischespiele.png
X-SHOW-END-TIME:0
END:VEVENT
BEGIN:VEVENT
DTSTART;TZID=Europe/Berlin:20240801T140000
DTEND;TZID=Europe/Berlin:20240801T233000
UID:BEDC4C3D-A1EB-4103-AC4A-C4D260B4D615
SUMMARY:Olympia
CREATED:20240726T124745Z
DTSTAMP:20240726T124745Z
URL:https://www.bmoovd.de/sportsbar-liveevents/olympia-4
LAST-MODIFIED:20240726T124745Z
SEQUENCE:0
X-ACCESS:1
X-HITS:25
X-COLOR:3366cc
X-IMAGE-INTRO:https://www.bmoovd.de/images/logos-sportarten/olympischespiele.png
X-SHOW-END-TIME:0
END:VEVENT
BEGIN:VEVENT
DTSTART;TZID=Europe/Berlin:20240801T183000
DTEND;TZID=Europe/Berlin:20240801T203000
UID:506BA8A5-9F0F-4036-A5D3-5DED1DFBDDCA
SUMMARY:Olympia: 3x3 Basketball Frauen | Deutschland - Aserbaidschan
CREATED:20240726T124818Z
DTSTAMP:20240726T124818Z
URL:https://www.bmoovd.de/sportsbar-liveevents/olympia-3x3-basketball-frauen-deutschland-aserbaidschan
LAST-MODIFIED:20240726T124818Z
SEQUENCE:0
X-ACCESS:1
X-HITS:26
X-COLOR:3366cc
X-IMAGE-INTRO:https://www.bmoovd.de/images/logos-sportarten/olympischespiele.png
X-SHOW-END-TIME:0
END:VEVENT
BEGIN:VEVENT
DTSTART;TZID=Europe/Berlin:20240801T190000
DTEND;TZID=Europe/Berlin:20240801T210000
UID:C634FDFD-9284-4443-916E-0B41D680C627
SUMMARY:Olympia: Handball Frauen | Deutschland - Dänemark
CREATED:20240726T124844Z
DTSTAMP:20240726T124844Z
URL:https://www.bmoovd.de/sportsbar-liveevents/olympia-handball-frauen-deutschland-daenemark
LAST-MODIFIED:20240726T124844Z
SEQUENCE:0
X-ACCESS:1
X-HITS:30
X-COLOR:3366cc
X-IMAGE-INTRO:https://www.bmoovd.de/images/logos-sportarten/olympischespiele.png
X-SHOW-END-TIME:0
END:VEVENT
BEGIN:VEVENT
DTSTART;TZID=Europe/Berlin:20240802T140000
DTEND;TZID=Europe/Berlin:20240802T233000
UID:ABAF5D47-6D10-4D1C-93B9-E05DFB49C58F
SUMMARY:Olympia
CREATED:20240726T124931Z
DTSTAMP:20240726T124931Z
URL:https://www.bmoovd.de/sportsbar-liveevents/olympia-5
LAST-MODIFIED:20240726T124931Z
SEQUENCE:0
X-ACCESS:1
X-HITS:27
X-COLOR:3366cc
X-IMAGE-INTRO:https://www.bmoovd.de/images/logos-sportarten/olympischespiele.png
X-SHOW-END-TIME:0
END:VEVENT
BEGIN:VEVENT
DTSTART;TZID=Europe/Berlin:20240802T160000
DTEND;TZID=Europe/Berlin:20240802T180000
UID:E46D2062-C618-4642-88CE-FCC558A7B88C
SUMMARY:Olympia: Handball Männer | Deutschland - Spanien
CREATED:20240726T125003Z
DTSTAMP:20240726T125003Z
URL:https://www.bmoovd.de/sportsbar-liveevents/olympia-handball-maenner-deutschland-spanien
LAST-MODIFIED:20240726T125003Z
SEQUENCE:0
X-ACCESS:1
X-HITS:25
X-COLOR:3366cc
X-IMAGE-INTRO:https://www.bmoovd.de/images/logos-sportarten/olympischespiele.png
X-SHOW-END-TIME:0
END:VEVENT
BEGIN:VEVENT
DTSTART;TZID=Europe/Berlin:20240802T200000
DTEND;TZID=Europe/Berlin:20240802T220000
UID:91C465F0-3604-4D7D-9A7C-C39A47B1E570
SUMMARY:Olympia: Hockey Männer | Großbritannien - Deutschland
CREATED:20240726T125029Z
DTSTAMP:20240726T125029Z
URL:https://www.bmoovd.de/sportsbar-liveevents/olympia-hockey-maenner-grossbritannien-deutschland
LAST-MODIFIED:20240726T125029Z
SEQUENCE:0
X-ACCESS:1
X-HITS:29
X-COLOR:3366cc
X-IMAGE-INTRO:https://www.bmoovd.de/images/logos-sportarten/olympischespiele.png
X-SHOW-END-TIME:0
END:VEVENT
BEGIN:VEVENT
DTSTART;TZID=Europe/Berlin:20240802T210000
DTEND;TZID=Europe/Berlin:20240802T230000
UID:DCBC5D3D-0D48-4483-A94E-77CF657F4982
SUMMARY:Olympia: Basketball Männer | Frankreich - Deutschland
CREATED:20240726T125120Z
DTSTAMP:20240726T125120Z
URL:https://www.bmoovd.de/sportsbar-liveevents/olympia-basketball-maenner-frankreich-deutschland
LAST-MODIFIED:20240726T125120Z
SEQUENCE:0
X-ACCESS:1
X-HITS:27
X-COLOR:3366cc
X-IMAGE-INTRO:https://www.bmoovd.de/images/logos-sportarten/olympischespiele.png
X-SHOW-END-TIME:0
END:VEVENT
BEGIN:VEVENT
DTSTART;TZID=Europe/Berlin:20240802T220000
DTEND;TZID=Europe/Berlin:20240802T233000
UID:3057B0B7-5616-4806-B957-C0CDC4784833
SUMMARY:Olympia: Beachvolleyball Frauen | USA - Deutschland
CREATED:20240726T125147Z
DTSTAMP:20240726T125147Z
URL:https://www.bmoovd.de/sportsbar-liveevents/olympia-beachvolleyball-frauen-usa-deutschland
LAST-MODIFIED:20240726T125147Z
SEQUENCE:0
X-ACCESS:1
X-HITS:27
X-COLOR:3366cc
X-IMAGE-INTRO:https://www.bmoovd.de/images/logos-sportarten/olympischespiele.png
X-SHOW-END-TIME:0
END:VEVENT
BEGIN:VEVENT
DTSTART;TZID=Europe/Berlin:20240804T100000
DTEND;TZID=Europe/Berlin:20240804T220000
UID:6F1258BD-C610-45DB-9B63-432EA5014864
SUMMARY:Olympia
CREATED:20240804T133755Z
DTSTAMP:20240804T133755Z
URL:https://www.bmoovd.de/sportsbar-liveevents/olympia-6
LAST-MODIFIED:20240804T133755Z
SEQUENCE:0
X-ACCESS:1
X-HITS:18
X-COLOR:3366cc
X-IMAGE-INTRO:https://www.bmoovd.de/images/logos-sportarten/olympischespiele.png
X-SHOW-END-TIME:0
END:VEVENT
BEGIN:VEVENT
DTSTART;TZID=Europe/Berlin:20240804T170000
DTEND;TZID=Europe/Berlin:20240804T190000
UID:0591A60C-1560-4656-8C12-4020FBD2D60E
SUMMARY:Basketball Frauen | Deutschland - USA
CREATED:20240804T133952Z
DTSTAMP:20240804T133952Z
URL:https://www.bmoovd.de/sportsbar-liveevents/basketball-frauen-deutschland-usa
LAST-MODIFIED:20240804T133952Z
SEQUENCE:0
X-ACCESS:1
X-HITS:18
X-COLOR:3366cc
X-IMAGE-INTRO:https://www.bmoovd.de/images/logos-sportarten/olympischespiele.png
X-SHOW-END-TIME:0
END:VEVENT
BEGIN:VEVENT
DTSTART;TZID=Europe/Berlin:20240805T140000
DTEND;TZID=Europe/Berlin:20240805T230000
UID:FD46F7C1-A6BE-46C7-BF22-E470BD97B66A
SUMMARY:Olympia
CREATED:20240804T134104Z
DTSTAMP:20240804T134104Z
URL:https://www.bmoovd.de/sportsbar-liveevents/olympia-7
LAST-MODIFIED:20240804T134104Z
SEQUENCE:0
X-ACCESS:1
X-HITS:34
X-COLOR:3366cc
X-IMAGE-INTRO:https://www.bmoovd.de/images/logos-sportarten/olympischespiele.png
X-SHOW-END-TIME:0
END:VEVENT
BEGIN:VEVENT
DTSTART;TZID=Europe/Berlin:20240805T170000
DTEND;TZID=Europe/Berlin:20240805T190000
UID:63F94A5B-EEEE-4D7A-82CA-C49E88834DD1
SUMMARY:Olympia: Volleyball Männer | Frankreich - Deutschland
CREATED:20240804T134203Z
DTSTAMP:20240804T134203Z
URL:https://www.bmoovd.de/sportsbar-liveevents/olympia-volleyball-maenner-frankreich-deutschland
LAST-MODIFIED:20240804T134203Z
SEQUENCE:0
X-ACCESS:1
X-HITS:18
X-COLOR:3366cc
X-IMAGE-INTRO:https://www.bmoovd.de/images/logos-sportarten/olympischespiele.png
X-SHOW-END-TIME:0
END:VEVENT
BEGIN:VEVENT
DTSTART;TZID=Europe/Berlin:20240805T183000
DTEND;TZID=Europe/Berlin:20240805T203000
UID:2D774EB3-8596-48C3-89F1-B856139437CA
SUMMARY:Olympia: 3x3 Basketball Frauen | Deutschland - Kanada
CREATED:20240804T134856Z
DTSTAMP:20240804T134856Z
URL:https://www.bmoovd.de/sportsbar-liveevents/olympia-3x3-basketball-frauen-deutschland-kanada
LAST-MODIFIED:20240804T134856Z
SEQUENCE:0
X-ACCESS:1
X-HITS:18
X-COLOR:3366cc
X-IMAGE-INTRO:https://www.bmoovd.de/images/logos-sportarten/olympischespiele.png
X-SHOW-END-TIME:0
END:VEVENT
BEGIN:VEVENT
DTSTART;TZID=Europe/Berlin:20240806T140000
DTEND;TZID=Europe/Berlin:20240806T230000
UID:4292D840-8248-4365-80B9-A9507FD1C430
SUMMARY:Olympia
CREATED:20240804T134937Z
DTSTAMP:20240804T134937Z
URL:https://www.bmoovd.de/sportsbar-liveevents/olympia-8
LAST-MODIFIED:20240804T134937Z
SEQUENCE:0
X-ACCESS:1
X-HITS:52
X-COLOR:3366cc
X-IMAGE-INTRO:https://www.bmoovd.de/images/logos-sportarten/olympischespiele.png
X-SHOW-END-TIME:0
END:VEVENT
BEGIN:VEVENT
DTSTART;TZID=Europe/Berlin:20240806T140000
DTEND;TZID=Europe/Berlin:20240806T150000
UID:0D109A6B-239D-4721-A27D-E2E0C0D3ECE3
SUMMARY:Olympia: Handball Männer | Frankreich - Deutschland
CREATED:20240804T135052Z
DTSTAMP:20240804T135052Z
URL:https://www.bmoovd.de/sportsbar-liveevents/olympia-handball-maenner-frankreich-deutschland
LAST-MODIFIED:20240804T135052Z
SEQUENCE:0
X-ACCESS:1
X-HITS:33
X-COLOR:3366cc
X-IMAGE-INTRO:https://www.bmoovd.de/images/logos-sportarten/olympischespiele.png
X-SHOW-END-TIME:0
END:VEVENT
BEGIN:VEVENT
DTSTART;TZID=Europe/Berlin:20240806T180000
DTEND;TZID=Europe/Berlin:20240806T200000
UID:8D9F3A4A-3A58-4C95-9417-21B71CC5B11F
SUMMARY:Olympia: Fußball Frauen | USA -Deutschland
CREATED:20240804T135145Z
DTSTAMP:20240804T135145Z
URL:https://www.bmoovd.de/sportsbar-liveevents/olympia-fussball-frauen-usa-deutschland-2
LAST-MODIFIED:20240804T135145Z
SEQUENCE:0
X-ACCESS:1
X-HITS:54
X-COLOR:3366cc
X-IMAGE-INTRO:https://www.bmoovd.de/images/logos-sportarten/olympischespiele.png
X-SHOW-END-TIME:0
END:VEVENT
BEGIN:VEVENT
DTSTART;TZID=Europe/Berlin:20240807T140000
DTEND;TZID=Europe/Berlin:20240807T230000
UID:DC472AA6-F474-4AAD-B126-9746618FF971
SUMMARY:Olympia
CREATED:20240804T135241Z
DTSTAMP:20240804T135241Z
URL:https://www.bmoovd.de/sportsbar-liveevents/olympia-9
LAST-MODIFIED:20240804T135241Z
SEQUENCE:0
X-ACCESS:1
X-HITS:38
X-COLOR:3366cc
X-IMAGE-INTRO:https://www.bmoovd.de/images/logos-sportarten/olympischespiele.png
X-SHOW-END-TIME:0
END:VEVENT
BEGIN:VEVENT
DTSTART;TZID=Europe/Berlin:20240808T140000
DTEND;TZID=Europe/Berlin:20240808T230000
UID:3CBB6B7F-B92F-423A-A3CB-C15B432193F9
SUMMARY:Olympia
CREATED:20240804T135303Z
DTSTAMP:20240804T135303Z
URL:https://www.bmoovd.de/sportsbar-liveevents/olympia-10
LAST-MODIFIED:20240804T135303Z
SEQUENCE:0
X-ACCESS:1
X-HITS:37
X-COLOR:3366cc
X-IMAGE-INTRO:https://www.bmoovd.de/images/logos-sportarten/olympischespiele.png
X-SHOW-END-TIME:0
END:VEVENT
BEGIN:VEVENT
DTSTART;TZID=Europe/Berlin:20240809T140000
DTEND;TZID=Europe/Berlin:20240809T230000
UID:90F5FB61-623E-45BC-9141-00946671DDF8
SUMMARY:Olympia
CREATED:20240804T135331Z
DTSTAMP:20240804T135331Z
URL:https://www.bmoovd.de/sportsbar-liveevents/olympia-11
LAST-MODIFIED:20240804T135331Z
SEQUENCE:0
X-ACCESS:1
X-HITS:53
X-COLOR:3366cc
X-IMAGE-INTRO:https://www.bmoovd.de/images/logos-sportarten/olympischespiele.png
X-SHOW-END-TIME:0
END:VEVENT
BEGIN:VEVENT
DTSTART;TZID=Europe/Berlin:20240810T100000
DTEND;TZID=Europe/Berlin:20240810T230000
UID:6D07ADBD-097F-4FDB-926D-2F662513A648
SUMMARY:Olympia
CREATED:20240804T135620Z
DTSTAMP:20240804T135620Z
URL:https://www.bmoovd.de/sportsbar-liveevents/olympia-12
LAST-MODIFIED:20240804T135620Z
SEQUENCE:0
X-ACCESS:1
X-HITS:39
X-COLOR:3366cc
X-IMAGE-INTRO:https://www.bmoovd.de/images/logos-sportarten/olympischespiele.png
X-SHOW-END-TIME:0
END:VEVENT
BEGIN:VEVENT
DTSTART;TZID=Europe/Berlin:20240810T163000
DTEND;TZID=Europe/Berlin:20240810T183000
UID:3285B5F2-A1C3-4A53-BC78-CC32082A1F13
SUMMARY:VfL Wolfsburg Frauen - Como 1907 Frauen
CREATED:20240804T135714Z
DTSTAMP:20240804T135714Z
URL:https://www.bmoovd.de/sportsbar-liveevents/vfl-wolfsburg-frauen-como-1907-frauen
LAST-MODIFIED:20240804T135714Z
SEQUENCE:0
X-ACCESS:1
X-HITS:40
X-COLOR:3366cc
X-IMAGE-INTRO:https://www.bmoovd.de/images/logos-sportarten/fussball.png
X-SHOW-END-TIME:0
END:VEVENT
BEGIN:VEVENT
DTSTART;TZID=Europe/Berlin:20240811T100000
DTEND;TZID=Europe/Berlin:20240811T230000
UID:36246D0E-9D27-49D8-BBE5-A276BFF4A8BD
SUMMARY:Olympia
CREATED:20240804T135819Z
DTSTAMP:20240804T135819Z
URL:https://www.bmoovd.de/sportsbar-liveevents/olympia-13
LAST-MODIFIED:20240804T135819Z
SEQUENCE:0
X-ACCESS:1
X-HITS:41
X-COLOR:3366cc
X-IMAGE-INTRO:https://www.bmoovd.de/images/logos-sportarten/olympischespiele.png
X-SHOW-END-TIME:0
END:VEVENT
BEGIN:VEVENT
DTSTART;TZID=Europe/Berlin:20240828T200000
DTEND;TZID=Europe/Berlin:20240828T230000
UID:0355525B-F899-4E22-AFC2-04CB114DC67B
SUMMARY:Paralympics: Eröffnungsfeier
CREATED:20240827T163144Z
DTSTAMP:20240827T163144Z
URL:https://www.bmoovd.de/sportsbar-liveevents/paralympics-eroeffnungsfeier
LAST-MODIFIED:20240827T163144Z
SEQUENCE:0
X-ACCESS:1
X-HITS:13
X-COLOR:3366cc
X-IMAGE-INTRO:https://www.bmoovd.de/images/logos-sportarten/olympischespiele.png
X-SHOW-END-TIME:0
END:VEVENT
BEGIN:VEVENT
DTSTART;TZID=Europe/Berlin:20240831T110000
DTEND;TZID=Europe/Berlin:20240831T153000
UID:26271B0C-EDAB-4832-A384-F72089AD1D5E
SUMMARY:Paralympics
CREATED:20240828T155015Z
DTSTAMP:20240828T155015Z
URL:https://www.bmoovd.de/sportsbar-liveevents/paralympics-2
LAST-MODIFIED:20240828T155015Z
SEQUENCE:0
X-ACCESS:1
X-HITS:34
X-COLOR:3366cc
X-IMAGE-INTRO:https://www.bmoovd.de/images/logos-sportarten/olympischespiele.png
X-SHOW-END-TIME:0
END:VEVENT
BEGIN:VEVENT
DTSTART;TZID=Europe/Berlin:20240831T233000
DTEND;TZID=Europe/Berlin:20240831T235900
UID:318B3E41-B617-4D44-A20C-DA96E3C796CD
SUMMARY:Paralympics
CREATED:20240828T154921Z
DTSTAMP:20240828T154921Z
URL:https://www.bmoovd.de/sportsbar-liveevents/paralympics
LAST-MODIFIED:20240828T154921Z
SEQUENCE:0
X-ACCESS:1
X-HITS:38
X-COLOR:3366cc
X-IMAGE-INTRO:https://www.bmoovd.de/images/logos-sportarten/olympischespiele.png
X-SHOW-END-TIME:0
END:VEVENT
BEGIN:VEVENT
DTSTART;TZID=Europe/Berlin:20240901T100000
DTEND;TZID=Europe/Berlin:20240901T120000
UID:786DE813-9CA8-4FEF-B12F-2A626D240AE8
SUMMARY:Paralympics
CREATED:20240828T155230Z
DTSTAMP:20240828T155230Z
URL:https://www.bmoovd.de/sportsbar-liveevents/paralympics-3
LAST-MODIFIED:20240828T155230Z
SEQUENCE:0
X-ACCESS:1
X-HITS:25
X-COLOR:3366cc
X-IMAGE-INTRO:https://www.bmoovd.de/images/logos-sportarten/olympischespiele.png
X-SHOW-END-TIME:0
END:VEVENT
BEGIN:VEVENT
DTSTART;TZID=Europe/Berlin:20240903T140000
DTEND;TZID=Europe/Berlin:20240903T150000
UID:09DE4933-D4ED-4357-900E-82F3FC660EF2
SUMMARY:Paralympics
CREATED:20240828T161152Z
DTSTAMP:20240828T161152Z
URL:https://www.bmoovd.de/sportsbar-liveevents/paralympics-4
LAST-MODIFIED:20240828T161152Z
SEQUENCE:0
X-ACCESS:1
X-HITS:56
X-COLOR:3366cc
X-IMAGE-INTRO:https://www.bmoovd.de/images/logos-sportarten/olympischespiele.png
X-SHOW-END-TIME:0
END:VEVENT
BEGIN:VEVENT
DTSTART;TZID=Europe/Berlin:20240905T140000
DTEND;TZID=Europe/Berlin:20240905T150000
UID:076FB4C3-DD86-45FA-A6D3-68AE9E209AE3
SUMMARY:Paralympics
CREATED:20240829T110501Z
DTSTAMP:20240829T110501Z
URL:https://www.bmoovd.de/sportsbar-liveevents/paralympics-5
LAST-MODIFIED:20240829T110501Z
SEQUENCE:0
X-ACCESS:1
X-HITS:60
X-COLOR:3366cc
X-IMAGE-INTRO:https://www.bmoovd.de/images/logos-sportarten/olympischespiele.png
X-SHOW-END-TIME:0
END:VEVENT
BEGIN:VEVENT
DTSTART;TZID=Europe/Berlin:20240907T110000
DTEND;TZID=Europe/Berlin:20240907T150000
UID:6EE4501B-2D6D-45D5-AF82-AAB9A386640A
SUMMARY:Paralympics
CREATED:20240829T112047Z
DTSTAMP:20240829T112047Z
URL:https://www.bmoovd.de/sportsbar-liveevents/paralympics-6
LAST-MODIFIED:20240829T112047Z
SEQUENCE:0
X-ACCESS:1
X-HITS:105
X-COLOR:3366cc
X-IMAGE-INTRO:https://www.bmoovd.de/images/logos-sportarten/olympischespiele.png
X-SHOW-END-TIME:0
END:VEVENT
BEGIN:VEVENT
DTSTART;TZID=Europe/Berlin:20240907T233000
DTEND;TZID=Europe/Berlin:20240907T235900
UID:F2167730-B4D8-40FB-B4EF-DF90A44F29AD
SUMMARY:Paralympics
CREATED:20240829T112325Z
DTSTAMP:20240829T112325Z
URL:https://www.bmoovd.de/sportsbar-liveevents/paralympics-7
LAST-MODIFIED:20240829T112325Z
SEQUENCE:0
X-ACCESS:1
X-HITS:50
X-COLOR:3366cc
X-IMAGE-INTRO:https://www.bmoovd.de/images/logos-sportarten/olympischespiele.png
X-SHOW-END-TIME:0
END:VEVENT
BEGIN:VEVENT
DTSTART;TZID=Europe/Berlin:20240908T130000
DTEND;TZID=Europe/Berlin:20240908T163000
UID:811DD4F5-CB76-4AD0-AF2E-C22E39EAEBC4
SUMMARY:Paralympics
CREATED:20240829T112820Z
DTSTAMP:20240829T112820Z
URL:https://www.bmoovd.de/sportsbar-liveevents/paralympics-8
LAST-MODIFIED:20240829T112820Z
SEQUENCE:0
X-ACCESS:1
X-HITS:80
X-COLOR:3366cc
X-IMAGE-INTRO:https://www.bmoovd.de/images/logos-sportarten/olympischespiele.png
X-SHOW-END-TIME:0
END:VEVENT
BEGIN:VEVENT
DTSTART;TZID=Europe/Berlin:20250312T160000
DTEND;TZID=Europe/Berlin:20250312T190000
UID:80C66E56-5BC6-433C-80C7-54027B3206CF
SUMMARY:Special Olympics
CREATED:20250305T170730Z
DTSTAMP:20250305T170730Z
URL:https://www.bmoovd.de/sportsbar-liveevents/special-olympics
LAST-MODIFIED:20250305T170730Z
SEQUENCE:0
X-ACCESS:1
X-HITS:15
X-COLOR:3366cc
X-IMAGE-INTRO:https://www.bmoovd.de/images/logos-sportarten/olympischespiele.png
X-SHOW-END-TIME:0
END:VEVENT
END:VCALENDAR